BEGIN:VCALENDAR
VERSION:2.0
PRODID:https://github.com/derhansen/sf_event_mgt
METHOD:PUBLISH
BEGIN:VEVENT
UID:493-10647@www.klinikum-stuttgart.de
CLASS: PUBLIC
SUMMARY:Qigong-Training
DESCRIPTION:Startdatum: fortlaufend | Preis: kostenlos | Ort: Haus G (Treff
 punkt: Zimmer U1.022) / online\n\nQigong ist eine Jahrtausende alte Achtsam
 keitsübung aus China und ein Bestandteil der Traditionellen Chinesischen Me
 dizin (TCM). Studien belegen eine Verbesserung der allgemeinen Lebensqualit
 ät und der Immunkompetenz, sowie positive Effekte in Bezug auf Stresslevel,
  Schlafprobleme und Fatigue. Alle Formen können im Stehen oder Sitzen ausge
 führt werden.\n\nDieser Kurs steht allen Krebspatient:innen während und nac
 h ihrer Therapie und Familienmitgliedern offen. Für den Kurs benötigen Sie 
 eine Webcam, bequeme Kleidung, einen Stuhl und genügend Platz, um Ihre Händ
 e seitlich und nach oben heben zu können. Ein Einstieg ist jederzeit ohne V
 orkenntnisse möglich.\n\nJulian McGough Zen Buddhist und Zen Priester, Medi
 tationslehrer, medizinischer Qigongtrainer und Tai Chi Lehrer\n\nSie können
  sich nach Bedarf an folgenden Terminen zu unserem Training zuschalten:\n\n
  	Mo: 11:00 Hybrid & 17:00 nur Online 	Di: 11:00 Hybrid 	Mi: 11:00 Hybrid 	
 Do. 11:00 Hybrid & 17:00 nur Online 	Fr: 11:00 Hybrid 
LOCATION:Online
DTSTAMP:20251112T075250Z
DTSTART:20281231T230000Z
END:VEVENT
END:VCALENDAR
