BEGIN:VCALENDAR
VERSION:2.0
PRODID:https://github.com/derhansen/sf_event_mgt
METHOD:PUBLISH
BEGIN:VEVENT
UID:658-10681@www.klinikum-stuttgart.de
CLASS: PUBLIC
SUMMARY:Trauerfeier und Bestattung der Kleinsten der Kleinen
DESCRIPTION:Zwei Mal im Jahr findet auf dem Stuttgarter Pragfriedhof eine T
 rauerfeier für die „Kleinsten der Kleinen“ statt. Für diese „Sternenkinder“
  hat die Stadt Stuttgart eine Gemeinschaftsgrabstätte eingerichtet. Kinder 
 unter 500 Gramm werden, sofern die Eltern sich nicht für eine Einzelbestatt
 ung entschieden haben, dort anonym in einer Urnenbestattung beigesetzt. Ein
 geladen sind die Eltern und deren Angehörige. Beteiligt sind die Frauenklin
 ik Klinikum Stuttgart, das Marienhospital, das Robert Bosch Krankenhaus, di
 e St. Anna-Klinik und das Rems-Murr-Klinikum.\n\nDie nächste Bestattung ist
  am Mittwoch, 19. November 2025 um 15.00 Uhr.\n\nDie Trauerfeier beginnt an
  der großen Treppe vor der Feierhalle. Von dort aus geht man gemeinsam zum 
 Grab, wo die „Kleinsten der Kleinen“ beigesetzt werden. Die gesamte Feier f
 indet im Freien statt. Seelsorger:innen aus den beteiligten Kliniken leiten
  die ökumenische Feier. Selbstverständlich sind auch Betroffene eingeladen,
  die keiner Kirche oder einer anderen Religion angehören. Die Kosten für Gr
 abstätte und Grabpflege übernimmt das städtische Friedhofsamt Stuttgart. Di
 es bedeutet aber, dass eine individuelle Grabgestaltung nicht möglich ist.\
 n\nWeitere Informationen: Christina Kneifel, Seelsorge Frauenklinik: 0711-2
 78-42255 oder 0711-278-32822
LOCATION:Pragfriedhof Stuttgart
DTSTAMP:20250917T112040Z
DTSTART:20251119T140000Z
DTEND:20251119T160000Z
END:VEVENT
END:VCALENDAR
