BEGIN:VCALENDAR
VERSION:2.0
PRODID:https://github.com/derhansen/sf_event_mgt
METHOD:PUBLISH
BEGIN:VEVENT
UID:938-10389@www.klinikum-stuttgart.de
CLASS: PUBLIC
SUMMARY:SCC Up to Date - Die Fortbildungsreihe für ärztliches Personal: Neu
 es zur Therapie des Prostatakarzinom
DESCRIPTION:Liebe Kolleginnen und Kollegen, Liebe Interessierte, \n\nwir la
 den Sie herzlich ein zur Teilnahme an der Fortbildungsreihe des Stuttgarter
  Cancer Center. \n\nThema: Neues zur Therapie des Prostatakarzinom\n\nSalva
 getherapie beim Prostatakarzinomrezidiv - Dr. D. Trijic, Klinik für Strahle
 ntherapie und Radioonkologie\n\nPSMA-Radioligandentherapie beim metastasier
 ten Prostatakarzinom - Prof. Dr. C. Rischpler, Ärztlicher Direktor, Klinik 
 für Nuklearmedizin\n\nNeues vom ESMO-Kongress - Prof. Dr. J. Bedke, Klinik 
 für Urologie und Transplantationsschirurgie\n\nHybridveranstaltung\n\nAnmel
 dung zur Präsenzveranstaltung: Email, Kennwort: ProstataCa\n\nAnmeldung zur
  Onlineteilnahme: Link\n\nDatenschutz Zoom Zur Durchführung des Online-Meet
 ings verwenden wir die Plattform ZOOM. Hinweise zum Datenschutz und zur Dat
 enverarbeitung finden Sie unter ZOOM.us.
DTSTAMP:20251016T135727Z
DTSTART:20251126T160000Z
END:VEVENT
END:VCALENDAR
