BEGIN:VCALENDAR
VERSION:2.0
PRODID:https://github.com/derhansen/sf_event_mgt
METHOD:PUBLISH
BEGIN:VEVENT
UID:1208-10389@www.klinikum-stuttgart.de
CLASS: PUBLIC
SUMMARY:SCC Up to date - Die Fortbildungsreihe für ärztliches Personal: Par
 adigmenwechsel in der Radioonkologie: Immer präziser, immer kürzer und die 
 Heilung als Ziel
DESCRIPTION:Liebe Kolleginnen und Kollegen, Liebe Interessierte, \n\nwir la
 den Sie herzlich ein zur Teilnahme an der Fortbildungsreihe des Stuttgarter
  Cancer Center. \n\nThema: Paradigmenwechsel in der Radioonkologie: Immer p
 räziser, immer kürzer und die Heilung als Ziel\n\nDie Strahlentherapie hat 
 in den letzten Jahren durch technologische und klinische Innovationen einen
  Paradigmenwechsel erlebt. Im Rahmen unseres Tumorforums stellen unsere Exp
 ertinnen und Experten die neuesten Entwicklungen vor – von hochkonformalen 
 bis hin zu adaptiven  Radiotherapie, dem Einsatz multimodaler Bildgebung so
 wie der Sicherstellung von Qualität und Präzision bei diesen auch technisch
  sehr anspruchsvollen Behandlungsoptionen. Wir freuen uns auf Ihre Teilnahm
 e und eine spannende Diskussion!\n\nProgramm:\n\n17:00 Uhr Begrüßung und Ei
 nleitung zum Thema Prof. M. Münter, Ärztlicher Direktor Klinik für Strahlen
 therapie und Radioonkologie\n\n17:10 Uhr Künstliche Intelligenz in der Stra
 hlentherapie: Was ist die online adaptive Strahlentherapie (oART). Dr. K. P
 . Aninditha, Klinik für Strahlentherapie und Radioonkologie\n\n17:30 Uhr Th
 erapieansätze der stereotaktischen Radiotherapie – von kranialen Anwendunge
 n (SRS) bis zu extrakraniellen Konzepten (SBRT) S. Baumbach, Klinik für Str
 ahlentherapie und Radioonkologie\n\n17:50 Uhr Die Medizinphysik macht den U
 nterschied: Warum verbessert eine hohe Präzision und stringente Qualitätssi
 cherung die klinischen Ergebnisse Dipl.-Ing. N. Wegner, Medizinphysik, Klin
 ik für Strahlentherapie und Radioonkologie\n\n18:10 Uhr Vorteile der modern
 en und bildgeführten Brachytherapie Dr. F. Zangos, Klinik für Strahlenthera
 pie und Radioonkologie\n\n18:30 Uhr Fragen und Diskussion\n\nHybridveransta
 ltung: Anmeldung zur Präsenzveranstaltung unter: Email Kennwort: Radioonko 
 Anmeldung zur Onlineteilnahme: Link\n\nDatenschutz Zoom Zur Durchführung de
 s Online-Meetings verwenden wir die Plattform ZOOM. Hinweise zum Datenschut
 z und zur Datenverarbeitung finden Sie unter ZOOM.us.
DTSTAMP:20250814T082231Z
DTSTART:20251008T150000Z
END:VEVENT
END:VCALENDAR
