BEGIN:VCALENDAR
VERSION:2.0
PRODID:https://github.com/derhansen/sf_event_mgt
METHOD:PUBLISH
BEGIN:VEVENT
UID:1256-10389@www.klinikum-stuttgart.de
CLASS: PUBLIC
SUMMARY:„Was euch betrifft...“ - Vortragsreihe für Schülerinnen und Schüler
  - Themenblock A
DESCRIPTION:Liebe Schülerinnen und Schüler!\n\nSeit vielen Jahren bieten wi
 r euch im Olgahospital in Stuttgart die Mitmach-Vortragsreihe „Was euch bet
 rifft…“ an. Bei diesen Veranstaltungen tragen euch sehr erfahrene Ärzt:inne
 n des Klinikums Stuttgart und Mitarbeiter:innen des Beratungs- und Behandlu
 ngszentrums Sucht in Stuttgart interessante Themen in Kurzvorträgen vor. Na
 ch jedem Vortrag diskutieren wir gerne mit euch eure Fragen. Bei dem Thema 
 „Auf Knopfdruck Notfall – Wiederbelebung für Schüler:innen“ dürft ihr selbs
 t in Kleingruppen an Puppen üben!\n\nNeugierig?! Wenn es euch interessiert,
  dann meldet eure Klasse zusammen mit den begleitenden Lehrer:innen bei der
  Fritz-Nuss-Schule am Klinikum Stuttgart an.\n\nIhr könnt euch auch vorab ü
 ber das Olgahospital informieren. Mehr Infos und das Programm findet ihr im
  Veranstaltungsflyer.\n\nThemenblock A\n\n9.00 bis 9.45 Uhr: Wenn’s Dir mal
  seelisch schlecht geht – Psychische Probleme im Jugendalter 10.00 bis 10.4
 5 Uhr: Was hält mich seelisch gesund und was macht mich krank?\n\nWir freue
 n uns auf euch!\n\n\n\n
LOCATION:Dienstleistungszentrum
DTSTAMP:20251014T122633Z
DTSTART:20260506T070000Z
DTEND:20260506T084500Z
END:VEVENT
END:VCALENDAR
