BEGIN:VCALENDAR
VERSION:2.0
PRODID:https://github.com/derhansen/sf_event_mgt
METHOD:PUBLISH
BEGIN:VEVENT
UID:1257-10389@www.klinikum-stuttgart.de
CLASS: PUBLIC
SUMMARY:„Was euch betrifft...“ - Vortragsreihe für Schülerinnen und Schüler
  - Themenblock B
DESCRIPTION:Liebe Schülerinnen und Schüler!\n\nSeit vielen Jahren bieten wi
 r euch im Olgahospital in Stuttgart die Mitmach-Vortragsreihe „Was euch bet
 rifft…“ an. Bei diesen Veranstaltungen tragen euch sehr erfahrene Ärzt:inne
 n des Klinikums Stuttgart und Mitarbeiter:innen des Beratungs- und Behandlu
 ngszentrums Sucht in Stuttgart interessante Themen in Kurzvorträgen vor. Na
 ch jedem Vortrag diskutieren wir gerne mit euch eure Fragen. Bei dem Thema 
 „Auf Knopfdruck Notfall – Wiederbelebung für Schüler:innen“ dürft ihr selbs
 t in Kleingruppen an Puppen üben!\n\nNeugierig?! Wenn es euch interessiert,
  dann meldet eure Klasse zusammen mit den begleitenden Lehrer:innen bei der
  Fritz-Nuss-Schule am Klinikum Stuttgart an.\n\nIhr könnt euch auch vorab ü
 ber das Olgahospital informieren. Mehr Infos und das Programm findet ihr im
  Veranstaltungsflyer.\n\nThemenblock B\n\n11.00 bis 11.45 Uhr Sportlich im 
 Gleichgewicht – Fitness, Training, Haltungsschäden PD Dr. med. Oliver Loose
 \n\n12.00 bis 12.45 Uhr Be smart, stay clean – Klartext über Drogen, Auswir
 kungen und (Langzeit)‐Folgen ÄD Dr. med. Maurice Cabanis\n\nWir freuen uns 
 auf euch!
LOCATION:Dienstleistungszentrum
DTSTAMP:20251014T121826Z
DTSTART:20251127T100000Z
DTEND:20251127T114500Z
END:VEVENT
END:VCALENDAR
