BEGIN:VCALENDAR
VERSION:2.0
PRODID:https://github.com/derhansen/sf_event_mgt
METHOD:PUBLISH
BEGIN:VEVENT
UID:1299-10389@www.klinikum-stuttgart.de
CLASS: PUBLIC
SUMMARY:Simulationstraining des Adipositaszentrums
DESCRIPTION:1. Tag (23.11.): 13:00 Uhr bis 18:45 Uhr (Krankenhaus Bad Canns
 tatt, Konferenzraum Hautklinik)\n\n2. Tag (24.11.): 9:00 Uhr bis 16:00 Uhr 
 (Katharinenhospital, Standort Mitte, Haus N (STUPS)\n\n Um Anmeldung wird g
 ebeten – per E-Mail an t.schoettle@klinikum-stuttgart.de\n\nDas Programm en
 tnehmen Sie der angehängten Datei.
LOCATION:Krankenhaus Bad Cannstatt (KBC)
DTSTAMP:20260410T112206Z
DTSTART:20261123T120000Z
DTEND:20261124T150000Z
END:VEVENT
END:VCALENDAR
