BEGIN:VCALENDAR
VERSION:2.0
PRODID:https://github.com/derhansen/sf_event_mgt
METHOD:PUBLISH
BEGIN:VEVENT
UID:1449-10389@www.klinikum-stuttgart.de
CLASS: PUBLIC
SUMMARY:SCC Up To Date - Update systemische Therapien bei neuroendokrinen T
 umoren (NET)
DESCRIPTION:Liebe Kolleginnen und Kollegen, liebe Interessierte,\n\nherzlic
 h laden wir Sie zur Fortbildungsreihe des Stuttgart Cancer Center - Tumorze
 ntrum Eva Mayr-Stihl ein!\n\n\n\n17:00 Uhr \n\nPD Dr. Jan Peveling \n\nPers
 onalisierte Systemtherapie in unterschiedlichen Therapiesituationen\n\n\n\n
 17:20 Uhr \n\nProf Dr. Christoph Rischpler\n\nUpdate Ligandentherapie – Was
  tun bei Versagen der PRRT?\n\n\n\n17:40 Uhr \n\nFr. E. Großwendt Netzwerk 
 Neuroendokrine Tumoren (NeT) e.V\n\nVon Somatostatin-Analoga über PRRT zur 
 Chemotherapie: Systemtherapie aus der Patientenperspektive\n\n\n\nZur Durch
 führung des Online-Meetings verwenden wir die Plattform ZOOM. Hinweise zum 
 Datenschutz und zur Datenverarbeitung finden Sie unter: Zoom.us\n\n Anmeldu
 ng zur Onlineteilnahme: Link\n\nHybridveranstaltung: Ort: Klinikum Stuttgar
 t, Standort Mitte, Haus F, Raum Lenzhalde
DTSTAMP:20260417T065753Z
DTSTART:20260506T150000Z
DTEND:20260506T163000Z
END:VEVENT
END:VCALENDAR
