BEGIN:VCALENDAR
VERSION:2.0
PRODID:https://github.com/derhansen/sf_event_mgt
METHOD:PUBLISH
BEGIN:VEVENT
UID:1406-10389@www.klinikum-stuttgart.de
CLASS: PUBLIC
SUMMARY:SCC Up To Date - Psychoonkologische und psychopharmakologische Unte
 rstützung von an Krebs Erkrankten
DESCRIPTION:Liebe Kolleginnen und Kollegen, liebe Interessierte,\n\nherzlic
 h laden wir Sie zur Fortbildungsreihe des Stuttgart Cancer Center - Tumorze
 ntrum Eva Mayr-Stihl ein!\n\n\n\n17:00 Uhr \n\nProf. Dr. Andreas Stengel\n\
 nDie Versorgung der von an Krebs erkrankten Patientinnen und Patienten brin
 gt vielseitige Fragen und Herausforderungen, nicht nur in der somatischen B
 ehandlung, mit sich. Häufig werden existenzielle Themen wie Fragen nach dem
  Lebenssinn, Umgang mit Ängsten und dem Lebensende in der weiteren Behandlu
 ng relevant. Auch geht die Diagnose Krebs mit einem erhöhten Risiko für die
  Entwicklung von psychischen Begleiterkrankungen einher. Der aktuelle Vortr
 ag soll dazu dienen Möglichkeiten zur Identifikation von entsprechend Patie
 ntinnen und Patienten aufzuzeigen sowie entsprechende Behandlungsmöglichkei
 ten darzustellen. Nicht zuletzt soll er zur gemeinsamen Reflexion und Disku
 ssion anregen.\n\n\n\nZur Durchführung des Online-Meetings verwenden wir di
 e Plattform ZOOM. Hinweise zum Datenschutz und zur Datenverarbeitung finden
  Sie unter: Zoom.us\n\n Anmeldung zur Onlineteilnahme: Link\n\nHybridverans
 taltung: Ort: Klinikum Stuttgart, Standort Mitte, Haus F, Raum Lenzhalde
DTSTAMP:20260420T142521Z
DTSTART:20260429T150000Z
DTEND:20260429T163000Z
END:VEVENT
END:VCALENDAR
