BEGIN:VCALENDAR
VERSION:2.0
PRODID:https://github.com/derhansen/sf_event_mgt
METHOD:PUBLISH
BEGIN:VEVENT
UID:1292-10389@www.klinikum-stuttgart.de
CLASS: PUBLIC
SUMMARY:KIDS Stuttgart 2026
DESCRIPTION:Aus drei mach eins.\n\nDie drei großen Kongresse für Kinderanäs
 thesiologie in Deutschland – Stuttgart, Celle und Köln – haben sich zusamme
 ngeschlossen und präsentieren in Zukunft aktuelle Themen, neueste wissensch
 aftliche Erkenntnisse, praktische Übungen/Workshops/Echo Labs und viel Raum
  für fachlichen Austausch im Bereich der Kinderanästhesiologie unter einer 
 gemeinsamen wissenschaftlichen Leitung: Kinderanästhesiologie Deutschland (
 KIDS).\n\nDer KIDS bietet kinderanästhesiologischen Spezialistinnen und Spe
 zialisten, kindermedizinisch interessierten Ärztinnen und Ärzten, (Fach-)Pf
 legenden und Rettungsdienstpersonal ein attraktives Forum sich über aktuell
 e Themen zu informieren und auszutauschen.\n\nDer erste KIDS-Kongress im ne
 uen Format findet 11.-14. November 2026 in der Schwabenlandhalle in Fellbac
 h bei Stuttgart statt.\n\nInformationen zum Programm und zur Anmeldung find
 en Sie in Kürze unter: SKAGA e.V. - Förderung von Kinder- & gynäkologischer
  Anästhesie
DTSTAMP:20251211T131120Z
DTSTART:20261110T230000Z
DTEND:20261113T230000Z
END:VEVENT
END:VCALENDAR
