BEGIN:VCALENDAR
VERSION:2.0
PRODID:https://github.com/derhansen/sf_event_mgt
METHOD:PUBLISH
BEGIN:VEVENT
UID:523-10395@www.klinikum-stuttgart.de
CLASS: PUBLIC
SUMMARY:Informationsabend für werdende Eltern
DESCRIPTION:Es bedarf keiner Anmeldung
LOCATION:Frauenklinik, Casino, Ebene 1
DTSTAMP:20240620T111634Z
DTSTART:20240708T170000Z
END:VEVENT
END:VCALENDAR
