BEGIN:VCALENDAR
VERSION:2.0
PRODID:https://github.com/derhansen/sf_event_mgt
METHOD:PUBLISH
BEGIN:VEVENT
UID:1423-10389@www.klinikum-stuttgart.de
CLASS: PUBLIC
SUMMARY:HNO Infoabend 2026
DESCRIPTION:Liebe Frau Kollegin, lieber Herr Kollege,\n\nich freue mich, Si
 e erneut zu einer Fortbildungsveranstaltung in unserer Klinik einzuladen. N
 eben fachlichen Themen werden wir aktuelle Entwicklungen innerhalb unseres 
 Klinikums erläutern. Die immer noch diffusen Reformbemühungen der Gesundhei
 tspolitik halten uns alle in Atem, gleichermaßen in der Praxis wie in der K
 linik. Die konkreten Auswirkungen sind jedoch weiterhin schwer abschätzbar.
  Es gibt also reichlich Anlässe für den kollegialen Austausch, sowohl währe
 nd des Programms als auch beim anschließenden Imbiss. Falls Sie nicht persö
 nlich erscheinen können, besteht die Möglichkeit zur Online-Teilnahme, wofü
 r ein neues Übertragungssystem gute Voraussetzungen bieten wird.\n\nHerzlic
 he Grüße und auf ein Wiedersehen im April!\n\nProf. Christian Sittel und da
 s Team der HNO-Klinik\n\n **Weitere Informationen zum Programm und den Refr
 ent:innen entnehmen Sie dem angehängten Infoflyer!**
LOCATION:Klinikum Stuttgart | Dienstleistungszentrum | großer Raum | Sattle
 rstr. 25, 70174 Stuttgart
DTSTAMP:20260226T133229Z
DTSTART:20260422T150000Z
END:VEVENT
END:VCALENDAR
