BEGIN:VCALENDAR
VERSION:2.0
PRODID:https://github.com/derhansen/sf_event_mgt
METHOD:PUBLISH
BEGIN:VEVENT
UID:1456-10389@www.klinikum-stuttgart.de
CLASS: PUBLIC
SUMMARY:Adipositastag 2026
DESCRIPTION:Am 18.04.2026 findet der Adipositastag 2026 im Krankenhaus Bad 
 Cannstatt (Casino) mit vielen Infos zu Adipositas und Übergewicht, u.a. mit
  Vorträgen zu Ernährung, Abnehmprogrammen und Adipositaschirurgie statt!\n\
 nDas Adipositaszentrum lädt alle Interessierten herzlich zur Teilnahme an d
 er Veranstaltung ein. Eine Anmeldung ist nicht notwendig.\n\n **Genauere In
 formationen zum Ablauf und zum Programm entnehmen Sie dem unten angehängten
  Veranstaltungsflyer**\n\n\n\nSponsoren:\n\n 	Celebrate Vitamins 	Fitforme 
LOCATION:Krankenhaus Bad Cannstatt (KBC)
DTSTAMP:20260402T082945Z
DTSTART:20260418T090000Z
DTEND:20260418T121500Z
END:VEVENT
END:VCALENDAR
