BEGIN:VCALENDAR
VERSION:2.0
PRODID:https://github.com/derhansen/sf_event_mgt
METHOD:PUBLISH
BEGIN:VEVENT
UID:1298-10389@www.klinikum-stuttgart.de
CLASS: PUBLIC
SUMMARY:14. Cannstatter Adipositasmeeting
DESCRIPTION:Weitere Infos folgen.
LOCATION:Großer Kursaal Bad Cannstatt
DTSTAMP:20251120T122606Z
DTSTART:20270410T070000Z
DTEND:20270410T110000Z
END:VEVENT
END:VCALENDAR
