BEGIN:VCALENDAR
VERSION:2.0
PRODID:https://github.com/derhansen/sf_event_mgt
METHOD:PUBLISH
BEGIN:VEVENT
UID:1295-10389@www.klinikum-stuttgart.de
CLASS: PUBLIC
SUMMARY:13. Cannstatter Adipositasmeeting
DESCRIPTION:Liebe Kolleginnen und Kollegen,\n\nden GLP-1-Analoga verdanken 
 wir, dass die chronische Erkrankung Adipositas mehr als je zuvor öffentlich
 e Aufmerksamkeit erlangt hat. Als interdisziplinäres Team eines der größten
  Adipositaszentren Deutschlands und einzigem Exzellenzzentrum für Adiposita
 schirurgie im Großraum Stuttgart sehen wir die Erkrankung differenziert und
  möchten unsere Patient:innen erfolgreich und nachhaltig therapieren.\n\nWi
 r möchten Sie ganz herzlich zum 13. Cannstatter Meeting in den Großen Kursa
 al einladen, um uns alle auf den neuesten Stand der Therapie und Therapieer
 folge zu bringen. Ausgewiesene Experten werden über folgende Themenbereiche
  referieren:\n\nPsychosomatik, Reflux, Niereninsuffizienz, moderne Endo-Hep
 atologie, moderne Adipositaschirurgie und plastische körperformende Eingrif
 fe.\n\nBesonders freut mich die Einordnung der medikamentösen Therapie mit 
 GLP-1-Analoga in den Therapiealgorithmus durch Herrn Kollegen Prof. Stephan
  C. Bischoff von der Universität Hohenheim.\n\nWir laden Sie ganz herzlich 
 nach Bad Cannstatt ein und freuen uns auf einen regen Gedanken- und Erfahru
 ngsaustausch. \n\n Prof. Dr. J. Köninger & Dr. E. Tanay\n\n\n\nUm Anmeldung
  wird gebeten – per E-Mail an t.schoettle@klinikum-stuttgart.de oder mittel
 s Antwortkarte (siehe PDF-Dokument)\n\nWeiter Infos sind in den Dokumenten 
 enthalten.
LOCATION:Großer Kursaal Bad Cannstatt
DTSTAMP:20260416T125542Z
DTSTART:20260613T070000Z
DTEND:20260613T110000Z
END:VEVENT
END:VCALENDAR
