BEGIN:VCALENDAR
VERSION:2.0
PRODID:https://github.com/derhansen/sf_event_mgt
METHOD:PUBLISH
BEGIN:VEVENT
UID:1476-10280@www.klinikum-stuttgart.de
CLASS: PUBLIC
SUMMARY:1. Sommersymposium Sportklinik
DESCRIPTION:Wir laden Sie herzlich zum ersten Sommer-Symposium der Sportkli
 nik im Klinikum Stuttgart ein. Unser spezialisiertes Team und namhafte exte
 rne Referenten informieren Sie über aktuelle Entwicklungen im Bereich Sport
 orthopädie und Gelenkchirurgie. Seien Sie darüber hinaus gespannt auf Vortr
 äge zum Thema Rehabilitation und neue Entwicklungen in der Physiotherapie u
 nd erleben Sie hautnah einen Erfahrungsbericht über die Rückkehr zum Profis
 port nach Verletzung und OP aus Sicht des Sportlers, Trainers, Physiotherap
 euten und Operateurs.\n\nWir freuen uns auf Sie.\n\nPD Dr. Michael Schlumbe
 rger Prof. Dr. Christian Knop Dr. Patrik Reize\n\nÄrztliche Direktoren Spor
 tklinik, Unfallchirurgie und Orthopädie\n\n\n\nMit freundlicher Unterstützu
 ng durch:\n\n 	medi 	Deutsches Institut für Zell- und Gewebeersatz 	OPED 	C
 onMed 	Carstens Auxilium 	Smith + Nephew 	enovis 	IGEA \n\nAls Gegenleistun
 g wird die Möglichkeit zur Werbung gegeben.
LOCATION:Krankenhaus Bad Cannstatt (KBC)
DTSTAMP:20260409T113234Z
DTSTART:20260725T070000Z
DTEND:20260725T140000Z
END:VEVENT
END:VCALENDAR
